BEGIN:VCALENDAR
VERSION:2.0
PRODID:-//Badminton Göhren - ECPv6.15.20//NONSGML v1.0//EN
CALSCALE:GREGORIAN
METHOD:PUBLISH
X-WR-CALNAME:Badminton Göhren
X-ORIGINAL-URL:https://www.badminton-goehren.de
X-WR-CALDESC:Veranstaltungen für Badminton Göhren
REFRESH-INTERVAL;VALUE=DURATION:PT1H
X-Robots-Tag:noindex
X-PUBLISHED-TTL:PT1H
BEGIN:VTIMEZONE
TZID:Europe/Berlin
BEGIN:DAYLIGHT
TZOFFSETFROM:+0100
TZOFFSETTO:+0200
TZNAME:CEST
DTSTART:20190331T010000
END:DAYLIGHT
BEGIN:STANDARD
TZOFFSETFROM:+0200
TZOFFSETTO:+0100
TZNAME:CET
DTSTART:20191027T010000
END:STANDARD
BEGIN:DAYLIGHT
TZOFFSETFROM:+0100
TZOFFSETTO:+0200
TZNAME:CEST
DTSTART:20200329T010000
END:DAYLIGHT
BEGIN:STANDARD
TZOFFSETFROM:+0200
TZOFFSETTO:+0100
TZNAME:CET
DTSTART:20201025T010000
END:STANDARD
BEGIN:DAYLIGHT
TZOFFSETFROM:+0100
TZOFFSETTO:+0200
TZNAME:CEST
DTSTART:20210328T010000
END:DAYLIGHT
BEGIN:STANDARD
TZOFFSETFROM:+0200
TZOFFSETTO:+0100
TZNAME:CET
DTSTART:20211031T010000
END:STANDARD
BEGIN:DAYLIGHT
TZOFFSETFROM:+0100
TZOFFSETTO:+0200
TZNAME:CEST
DTSTART:20220327T010000
END:DAYLIGHT
BEGIN:STANDARD
TZOFFSETFROM:+0200
TZOFFSETTO:+0100
TZNAME:CET
DTSTART:20221030T010000
END:STANDARD
BEGIN:DAYLIGHT
TZOFFSETFROM:+0100
TZOFFSETTO:+0200
TZNAME:CEST
DTSTART:20230326T010000
END:DAYLIGHT
BEGIN:STANDARD
TZOFFSETFROM:+0200
TZOFFSETTO:+0100
TZNAME:CET
DTSTART:20231029T010000
END:STANDARD
BEGIN:DAYLIGHT
TZOFFSETFROM:+0100
TZOFFSETTO:+0200
TZNAME:CEST
DTSTART:20240331T010000
END:DAYLIGHT
BEGIN:STANDARD
TZOFFSETFROM:+0200
TZOFFSETTO:+0100
TZNAME:CET
DTSTART:20241027T010000
END:STANDARD
BEGIN:DAYLIGHT
TZOFFSETFROM:+0100
TZOFFSETTO:+0200
TZNAME:CEST
DTSTART:20250330T010000
END:DAYLIGHT
BEGIN:STANDARD
TZOFFSETFROM:+0200
TZOFFSETTO:+0100
TZNAME:CET
DTSTART:20251026T010000
END:STANDARD
BEGIN:DAYLIGHT
TZOFFSETFROM:+0100
TZOFFSETTO:+0200
TZNAME:CEST
DTSTART:20260329T010000
END:DAYLIGHT
BEGIN:STANDARD
TZOFFSETFROM:+0200
TZOFFSETTO:+0100
TZNAME:CET
DTSTART:20261025T010000
END:STANDARD
END:VTIMEZONE
BEGIN:VEVENT
DTSTART;TZID=Europe/Berlin:20251206T100000
DTEND;TZID=Europe/Berlin:20251206T170000
DTSTAMP:20260425T142606
CREATED:20250103T091737Z
LAST-MODIFIED:20250807T062147Z
UID:3170-1765015200-1765040400@www.badminton-goehren.de
SUMMARY:8. RLT  (U13/U17) in Neubrandenburg
DESCRIPTION:
URL:https://www.badminton-goehren.de/event/2-c-rlt-mvp-u13_u17_sassnitz/
END:VEVENT
BEGIN:VEVENT
DTSTART;VALUE=DATE:20251108
DTEND;VALUE=DATE:20251110
DTSTAMP:20260425T142606
CREATED:20210707T080843Z
LAST-MODIFIED:20250807T072759Z
UID:2635-1762560000-1762732799@www.badminton-goehren.de
SUMMARY:7. RLT (U11/15/19) in Malchin
DESCRIPTION:
URL:https://www.badminton-goehren.de/event/4-a-rlt-u17-19-in-schwarzenbek/
END:VEVENT
BEGIN:VEVENT
DTSTART;TZID=Europe/Berlin:20251011T100000
DTEND;TZID=Europe/Berlin:20251011T180000
DTSTAMP:20260425T142606
CREATED:20181007T190707Z
LAST-MODIFIED:20250807T061732Z
UID:1946-1760176800-1760205600@www.badminton-goehren.de
SUMMARY:LEM in Güstrow (U11 -19)
DESCRIPTION:
URL:https://www.badminton-goehren.de/event/1-doppelranglistenturnier/
LOCATION:Güstrow\, Speicherstrasse 6\, Güstrow\, MV\, 18273\, Deutschland
ORGANIZER;CN="G%C3%BCstrower SC 09 !":MAILTO:badminton@gsc09.de
END:VEVENT
BEGIN:VEVENT
DTSTART;TZID=Europe/Berlin:20250920T100000
DTEND;TZID=Europe/Berlin:20250920T180000
DTSTAMP:20260425T142606
CREATED:20160321T215328Z
LAST-MODIFIED:20250807T072831Z
UID:72-1758362400-1758391200@www.badminton-goehren.de
SUMMARY:6. RLT  U13/17 in Sassnitz
DESCRIPTION:
URL:https://www.badminton-goehren.de/event/6-ranglistenturnier-in-malchin-ak-u1317/
LOCATION:Schwerin\, Freidrich Engelsstrasse 35\, MalchinSchwerin\, MV\, 17139\, Deutschland
END:VEVENT
BEGIN:VEVENT
DTSTART;TZID=Europe/Berlin:20250913T093000
DTEND;TZID=Europe/Berlin:20250913T093000
DTSTAMP:20260425T142606
CREATED:20200802T144513Z
LAST-MODIFIED:20250802T202450Z
UID:2389-1757755800-1757755800@www.badminton-goehren.de
SUMMARY:12. Güstrower Kinder-Jugendpokal (U9 bis 17)
DESCRIPTION:
URL:https://www.badminton-goehren.de/event/guestrower-kinder-jugendpokal-u9-bis-19/
LOCATION:Güstrow\, Speicherstrasse 6\, Güstrow\, MV\, 18273\, Deutschland
END:VEVENT
BEGIN:VEVENT
DTSTART;TZID=Europe/Berlin:20250517T100000
DTEND;TZID=Europe/Berlin:20250517T170000
DTSTAMP:20260425T142606
CREATED:20250101T134016Z
LAST-MODIFIED:20250807T072936Z
UID:3166-1747476000-1747501200@www.badminton-goehren.de
SUMMARY:3. RLT in Malchin ( AK U11\,15 und 19)
DESCRIPTION:Sporthalle : Anne Frank Strasse 5 in Schwerin
URL:https://www.badminton-goehren.de/event/1-c-rlt-in-schwerin-ak-u1115-und-19/
END:VEVENT
BEGIN:VEVENT
DTSTART;VALUE=DATE:20250426
DTEND;VALUE=DATE:20250427
DTSTAMP:20260425T142606
CREATED:20210624T090412Z
LAST-MODIFIED:20250408T200538Z
UID:2627-1745625600-1745711999@www.badminton-goehren.de
SUMMARY:Borwin Cup' 25 A/B der AK U9A/B bis 17A/B in Güstrow
DESCRIPTION:
URL:https://www.badminton-goehren.de/event/12-guestrower-pokalturnier-doppel-und-mixed/
LOCATION:Güstrow\, Speicherstrasse 6\, Güstrow\, MV\, 18273\, Deutschland
END:VEVENT
BEGIN:VEVENT
DTSTART;TZID=Europe/Berlin:20250329T080000
DTEND;TZID=Europe/Berlin:20250329T180000
DTSTAMP:20260425T142606
CREATED:20250226T183052Z
LAST-MODIFIED:20250304T202447Z
UID:3184-1743235200-1743271200@www.badminton-goehren.de
SUMMARY:Vier Tore Pokal in NB (AK U9A/B bis U15A/B)
DESCRIPTION:
URL:https://www.badminton-goehren.de/event/9-vier-tore-pokal-in-nb-ak-u9a-b-bis-u15a-b/
END:VEVENT
BEGIN:VEVENT
DTSTART;TZID=Europe/Berlin:20240921T090000
DTEND;TZID=Europe/Berlin:20240922T180000
DTSTAMP:20260425T142606
CREATED:20220102T132143Z
LAST-MODIFIED:20240824T111818Z
UID:2780-1726909200-1727028000@www.badminton-goehren.de
SUMMARY:3. Norddeutsches RLT U13-U15 2024 (DBV-B-RLT U13 bis U19) Oststeinbek
DESCRIPTION:
URL:https://www.badminton-goehren.de/event/1-norddeutsches-rlt-u17-u19-22-in-buetzow/
END:VEVENT
BEGIN:VEVENT
DTSTART;TZID=Europe/Berlin:20240914T100000
DTEND;TZID=Europe/Berlin:20240914T180000
DTSTAMP:20260425T142606
CREATED:20160519T112320Z
LAST-MODIFIED:20240508T150555Z
UID:1158-1726308000-1726336800@www.badminton-goehren.de
SUMMARY:6. C-RLT (U13/17) Neubrandenburg
DESCRIPTION:
URL:https://www.badminton-goehren.de/event/5-ranglistenturnier-u111519/
LOCATION:Bützow\, Vierburgweg\, Bützow\, MV\, Deutschland
END:VEVENT
BEGIN:VEVENT
DTSTART;TZID=Europe/Berlin:20240629T090000
DTEND;TZID=Europe/Berlin:20240629T200000
DTSTAMP:20260425T142606
CREATED:20200121T121106Z
LAST-MODIFIED:20240508T150711Z
UID:2295-1719651600-1719691200@www.badminton-goehren.de
SUMMARY:5. C-RLT (U11/15 und 19) Neubukow
DESCRIPTION:
URL:https://www.badminton-goehren.de/event/1-a-rlt-ak-u15-17-in/
END:VEVENT
BEGIN:VEVENT
DTSTART;TZID=Europe/Berlin:20240524T080000
DTEND;TZID=Europe/Berlin:20240525T190000
DTSTAMP:20260425T142606
CREATED:20230421T111030Z
LAST-MODIFIED:20240416T115030Z
UID:2958-1716537600-1716663600@www.badminton-goehren.de
SUMMARY:3. DBV A-RLT U17-U19 Nürnberg 2024
DESCRIPTION:
URL:https://www.badminton-goehren.de/event/flora-cup-2023-in-elmshorn-ak-u11-u19/
END:VEVENT
BEGIN:VEVENT
DTSTART;TZID=Europe/Berlin:20240323T100000
DTEND;TZID=Europe/Berlin:20240323T170000
DTSTAMP:20260425T142606
CREATED:20191230T222009Z
LAST-MODIFIED:20240301T133126Z
UID:2242-1711188000-1711213200@www.badminton-goehren.de
SUMMARY:20. Göhrener Winterspiele 2024
DESCRIPTION:Traditionelles Vereinstunrier des TSV Empor Göhren. Spiel-und Sportabzeichenprüfung ab 10.00 Uhr. Danach Staffelspiele und gegen 13.30 Uhr ein kleines Vereinsturnier  !
URL:https://www.badminton-goehren.de/event/19-goehrener-winterspiele-2020/
LOCATION:Ostseebad Göhren\, Gerhart-Hauptmannstarsse 01\, Ostseebad Göhren\, MV\, 18586\, Deutschland
END:VEVENT
BEGIN:VEVENT
DTSTART;TZID=Europe/Berlin:20240127T080000
DTEND;TZID=Europe/Berlin:20240128T170000
DTSTAMP:20260425T142606
CREATED:20230105T182002Z
LAST-MODIFIED:20231226T162620Z
UID:2929-1706342400-1706461200@www.badminton-goehren.de
SUMMARY:1. Norddeutsches RLT U17-U19 2024 (DBV-B-RLT U17U19) in Gifhorn
DESCRIPTION:
URL:https://www.badminton-goehren.de/event/1-norddeutsches-rlt-u17-u19-2023-in-gifforn/
END:VEVENT
BEGIN:VEVENT
DTSTART;TZID=Europe/Berlin:20240113T100000
DTEND;TZID=Europe/Berlin:20240114T180000
DTSTAMP:20260425T142606
CREATED:20160321T215153Z
LAST-MODIFIED:20231215T140458Z
UID:70-1705140000-1705255200@www.badminton-goehren.de
SUMMARY:1.DBV A-RLT U17-19 Wesel 2024
DESCRIPTION:
URL:https://www.badminton-goehren.de/event/5-ranglistenturnier-in-malchin-ak-u111519/
LOCATION:Neubrandenburg\, Adlerstrasse 1a\, Neubrandenburg\, MV\, 17034\, Deutschland
END:VEVENT
BEGIN:VEVENT
DTSTART;TZID=Europe/Berlin:20231201T080000
DTEND;TZID=Europe/Berlin:20231203T170000
DTSTAMP:20260425T142606
CREATED:20221107T185946Z
LAST-MODIFIED:20231113T195637Z
UID:2909-1701417600-1701622800@www.badminton-goehren.de
SUMMARY:Deutsche Einzelmeisterschaften 2023 U15\, U17\, U19 in Gera
DESCRIPTION:
URL:https://www.badminton-goehren.de/event/deutsche-einzelmeisterschaften-2022-u15-u17-u19/
END:VEVENT
BEGIN:VEVENT
DTSTART;TZID=Europe/Berlin:20231104T080000
DTEND;TZID=Europe/Berlin:20231106T170000
DTSTAMP:20260425T142606
CREATED:20221028T181850Z
LAST-MODIFIED:20231021T105019Z
UID:2906-1699084800-1699290000@www.badminton-goehren.de
SUMMARY:Norddeutsche Meisterschaften U11-U19 2023 in Schüttorf
DESCRIPTION:
URL:https://www.badminton-goehren.de/event/norddeutsche-meisterschaften-u13-u19-2022-in-preetz/
END:VEVENT
BEGIN:VEVENT
DTSTART;TZID=Europe/Berlin:20230624T100000
DTEND;TZID=Europe/Berlin:20230625T180000
DTSTAMP:20260425T142606
CREATED:20180923T193756Z
LAST-MODIFIED:20230605T181420Z
UID:1943-1687600800-1687716000@www.badminton-goehren.de
SUMMARY:2. B-RLT Mitte (U15/19) in Gera
DESCRIPTION:
URL:https://www.badminton-goehren.de/event/lm-in-malchin-ak-u11-bis-19/
LOCATION:Sporthalle\, Rudolf-Fritzstrasse 01\, Malchin
END:VEVENT
BEGIN:VEVENT
DTSTART;TZID=Europe/Berlin:20230624T100000
DTEND;TZID=Europe/Berlin:20230624T170000
DTSTAMP:20260425T142606
CREATED:20230505T162520Z
LAST-MODIFIED:20230530T154410Z
UID:2970-1687600800-1687626000@www.badminton-goehren.de
SUMMARY:Badminton-Vereinsturnier "Nordperdhallenpokal" (AK U9-U17) in Göhren
DESCRIPTION:Traditionelles Vereins-Badmintonturnier des TSV Empor Göhren. Ab 10.00 Uhr kämpfen die Kleinen der AK U9 und U11 sowie U13 und U15/17 um die tollen Pokale. Gegen 14.00 Uhr wird dann Super Melee gespielt !
URL:https://www.badminton-goehren.de/event/badminton-vereinsturnier-ak-u9-u17-in-goehren/
END:VEVENT
BEGIN:VEVENT
DTSTART;TZID=Europe/Berlin:20230401T080000
DTEND;TZID=Europe/Berlin:20230402T170000
DTSTAMP:20260425T142606
CREATED:20211003T175503Z
LAST-MODIFIED:20230224T160905Z
UID:2709-1680336000-1680454800@www.badminton-goehren.de
SUMMARY:2. A-RLT U17/U19 2023 - Nürnberg
DESCRIPTION:
URL:https://www.badminton-goehren.de/event/norddeutsche-meisterschaften-u13-u19-in-nienburg/
END:VEVENT
BEGIN:VEVENT
DTSTART;TZID=Europe/Berlin:20230311T100000
DTEND;TZID=Europe/Berlin:20230311T180000
DTSTAMP:20260425T142606
CREATED:20160519T111832Z
LAST-MODIFIED:20221201T193552Z
UID:1154-1678528800-1678557600@www.badminton-goehren.de
SUMMARY:2. C-RLT in Malchin (13/17)
DESCRIPTION:
URL:https://www.badminton-goehren.de/event/2-ranglistenturnier-u1317/
LOCATION:Güstrow\, Speicherstrasse 6\, Güstrow\, MV\, 18273\, Deutschland
END:VEVENT
BEGIN:VEVENT
DTSTART;TZID=Europe/Berlin:20230114T090000
DTEND;TZID=Europe/Berlin:20230115T180000
DTSTAMP:20260425T142606
CREATED:20210822T212048Z
LAST-MODIFIED:20230105T181737Z
UID:2666-1673686800-1673805600@www.badminton-goehren.de
SUMMARY:1. Norddeutsches RLT U13-U15 2023 in Hamburg
DESCRIPTION:
URL:https://www.badminton-goehren.de/event/3-nordd-rlt-in-nienburg-aku17-19/
END:VEVENT
BEGIN:VEVENT
DTSTART;TZID=Europe/Berlin:20221217T100000
DTEND;TZID=Europe/Berlin:20221217T180000
DTSTAMP:20260425T142606
CREATED:20160409T204843Z
LAST-MODIFIED:20221202T192751Z
UID:580-1671271200-1671300000@www.badminton-goehren.de
SUMMARY:5. C-RLT in Greifswald (U13/17)
DESCRIPTION:
URL:https://www.badminton-goehren.de/event/3-guestrower-jugendpokal/
LOCATION:Bützow\, Vierburgweg\, Bützow\, MV\, Deutschland
END:VEVENT
BEGIN:VEVENT
DTSTART;TZID=Europe/Berlin:20220514T090000
DTEND;TZID=Europe/Berlin:20220515T170000
DTSTAMP:20260425T142606
CREATED:20211116T223804Z
LAST-MODIFIED:20220414T202246Z
UID:2734-1652518800-1652634000@www.badminton-goehren.de
SUMMARY:10. Deutsche U13-Einzelmeisterschaften in Bonn
DESCRIPTION:
URL:https://www.badminton-goehren.de/event/10-deutsche-u13-einzelmeisterschaften-in-bonn/
END:VEVENT
BEGIN:VEVENT
DTSTART;VALUE=DATE:20220507
DTEND;VALUE=DATE:20220509
DTSTAMP:20260425T142606
CREATED:20160321T215300Z
LAST-MODIFIED:20220429T174918Z
UID:71-1651881600-1652054399@www.badminton-goehren.de
SUMMARY:2.Victor-SHBV-C-RLT U11-U19 2022 in Itzehoe
DESCRIPTION:
URL:https://www.badminton-goehren.de/event/flora-cup-in-elmshorn-ak-u11-u22/
LOCATION:Elmshorn\, www.flora-cup.de\, Elmshorn
END:VEVENT
BEGIN:VEVENT
DTSTART;TZID=Europe/Berlin:20220402T080000
DTEND;TZID=Europe/Berlin:20220403T170000
DTSTAMP:20260425T142606
CREATED:20210920T193154Z
LAST-MODIFIED:20220331T182621Z
UID:2690-1648886400-1649005200@www.badminton-goehren.de
SUMMARY:2. A-RLT in Völklingen (AK U17/19)
DESCRIPTION:
URL:https://www.badminton-goehren.de/event/10-a-rlt-in-hamburg-ak-u11-13/
END:VEVENT
BEGIN:VEVENT
DTSTART;TZID=Europe/Berlin:20211113T090000
DTEND;TZID=Europe/Berlin:20211114T180000
DTSTAMP:20260425T142606
CREATED:20211110T121701Z
LAST-MODIFIED:20211110T121701Z
UID:2728-1636794000-1636912800@www.badminton-goehren.de
SUMMARY:1. Victor SHBV C-RLT U11-U19 in Schleswig
DESCRIPTION:
URL:https://www.badminton-goehren.de/event/1-victor-shbv-c-rlt-u11-u19-in-schleswig/
END:VEVENT
BEGIN:VEVENT
DTSTART;TZID=Europe/Berlin:20200425T100000
DTEND;TZID=Europe/Berlin:20200425T180000
DTSTAMP:20260425T142606
CREATED:20180529T200206Z
LAST-MODIFIED:20200325T220122Z
UID:1870-1587808800-1587837600@www.badminton-goehren.de
SUMMARY:6. Vier Tore Pokal in NB Abgesagt
DESCRIPTION:Traditionelles Badmintonturnier  in den AK U9/11/13 und 15 der Leistungsklasse A und B.
URL:https://www.badminton-goehren.de/event/4-vier-tore-pokal-in-nb/
END:VEVENT
BEGIN:VEVENT
DTSTART;VALUE=DATE:20200403
DTEND;VALUE=DATE:20200406
DTSTAMP:20260425T142606
CREATED:20160321T215117Z
LAST-MODIFIED:20200312T133357Z
UID:69-1585872000-1586131199@www.badminton-goehren.de
SUMMARY:Schleicup in Schleswig (U9 - 22) Abgesagt !!
DESCRIPTION:12. internationales Kinder/Jugendturnier in Schleswig in den AK U9 bis U22 !
URL:https://www.badminton-goehren.de/event/schleicup-in-schleswig-ak-u9-bis-u22/
LOCATION:Schleswig\, Am Eisteich\, Scleswig-Holstein\, Deutschland
END:VEVENT
BEGIN:VEVENT
DTSTART;TZID=Europe/Berlin:20200202T183000
DTEND;TZID=Europe/Berlin:20200202T230000
DTSTAMP:20260425T142606
CREATED:20200123T203042Z
LAST-MODIFIED:20200123T203525Z
UID:2305-1580668200-1580684400@www.badminton-goehren.de
SUMMARY:5. Wichtelturnier 2020
DESCRIPTION:Traditionelles Freizeitturnier der Freizeit – und Vereinssportler des TSV Empor Göhren und der Insel Rügen im Super Melee !  Unkostenbeitrag ist 5\,00 e pro Nase ! \nWichtig bei diesem Turnier\, dass alle Teilnehmer ein kleines Geschenk mitbringen\, das eventuell als Weihnachtsgeschenk nicht so richtig ankam 😉 ! Nach dem Turnier gemütliches Zusammensein – mit Verteilung der Geschenke und Ehrung des Siegers !!
URL:https://www.badminton-goehren.de/event/5-wichtelturnier-2020/
END:VEVENT
END:VCALENDAR